BEGIN:VCALENDAR
VERSION:2.0
PRODID:-//Spanning the Need: Good News, Inspiring, the Uninspired. - ECPv6.15.20//NONSGML v1.0//EN
CALSCALE:GREGORIAN
METHOD:PUBLISH
X-ORIGINAL-URL:https://spanningtheneed.com
X-WR-CALDESC:Events for Spanning the Need: Good News, Inspiring, the Uninspired.
REFRESH-INTERVAL;VALUE=DURATION:PT1H
X-Robots-Tag:noindex
X-PUBLISHED-TTL:PT1H
BEGIN:VTIMEZONE
TZID:America/New_York
BEGIN:DAYLIGHT
TZOFFSETFROM:-0500
TZOFFSETTO:-0400
TZNAME:EDT
DTSTART:20250309T070000
END:DAYLIGHT
BEGIN:STANDARD
TZOFFSETFROM:-0400
TZOFFSETTO:-0500
TZNAME:EST
DTSTART:20251102T060000
END:STANDARD
BEGIN:DAYLIGHT
TZOFFSETFROM:-0500
TZOFFSETTO:-0400
TZNAME:EDT
DTSTART:20260308T070000
END:DAYLIGHT
BEGIN:STANDARD
TZOFFSETFROM:-0400
TZOFFSETTO:-0500
TZNAME:EST
DTSTART:20261101T060000
END:STANDARD
BEGIN:DAYLIGHT
TZOFFSETFROM:-0500
TZOFFSETTO:-0400
TZNAME:EDT
DTSTART:20270314T070000
END:DAYLIGHT
BEGIN:STANDARD
TZOFFSETFROM:-0400
TZOFFSETTO:-0500
TZNAME:EST
DTSTART:20271107T060000
END:STANDARD
END:VTIMEZONE
BEGIN:VEVENT
DTSTART;TZID=America/New_York:20260312T173000
DTEND;TZID=America/New_York:20260312T173000
DTSTAMP:20260420T211413
CREATED:20251212T105524Z
LAST-MODIFIED:20260306T144534Z
UID:50014-1773336600-1773336600@spanningtheneed.com
SUMMARY:Food for Thought Book Discussion
DESCRIPTION:Lit Youngstown’s Food for Thought book discussion group will meet at 5:30pm the second Thursday of each month at Noble Creature Wild Ales & Lagers. The series\, sponsored by the Raymond J. Wean Foundation\, will run September 2025 through May 2026. \nThis year’s titles include a script for the stage\, a memoir by a celebrated New Yorker cartoonist\, science fiction\, novels by an Iranian immigrant and Native American writers\, and a book about the changing journalism landscape that includes a chapter on the Youngstown Vindicator. \nThey include: \nOctober (journalism) Ghosting the News by Margaret Sullivan \nNovember (graphic memoir) Can’t We Talk About Something More Pleasant? by Roz Chast \nDecember (drama) Passion Play by Sarah Ruhl \nJanuary (speculative fiction) Bewilderment by Richard Powers \nFebruary (memoir) There’s Always This Year by Hanif Abdurraqib \nMarch (novel) Martyr! by Kaveh Akbar \nApril (novel) Perma Red by Debra Magpie Earling \nMay (novel) State of Wonder by Ann Patchett \nLit Youngstown is a literary arts nonprofit with programs for writers\, readers\, and those who love a good story. More information is available at www.LitYoungstown.org.
URL:https://spanningtheneed.com/event/food-for-thought-book-discussion-7/
LOCATION:Noble Creature Wild Ales & Lagers\, 126 E. Rayen Ave.\, Youngstown\, 44503\, United States
CATEGORIES:Downtown Youngstown,Event,Events,Free Event
ATTACH;FMTTYPE=image/jpeg:https://spanningtheneed.com/wp-content/uploads/2025/09/Food-for-Thought-7HaCOU.jpg
END:VEVENT
BEGIN:VEVENT
DTSTART;TZID=America/New_York:20260320T193000
DTEND;TZID=America/New_York:20260320T193000
DTSTAMP:20260420T211413
CREATED:20251226T120107Z
LAST-MODIFIED:20260313T144517Z
UID:50101-1774035000-1774035000@spanningtheneed.com
SUMMARY:The Lyons
DESCRIPTION:The Youngstown Playhouse presents The Lyons March 20-29\, 2026 at The Youngstown Playhouse downtown location. \nBen Lyons is dying. When his wife\, Rita\, and grown children gather to say goodbye\, they learn that\, despite being a family\, each of them is utterly isolated\, afraid of closeness\, and afraid of solitude. They are propelled into foreign territory – human connection. \nShowtimes are: \nFriday\, March 20 – 7:30pm\nSaturday\, March 21 – 7:30pm\nSunday\, March 22 – 2:30pm\nFriday\, March 27 – 7:30pm\nSaturday\, March 28 – 7:30pm\nSunday\, March 29 – 2:30pm \nTickets may be purchased on the Experience Your Arts website or in-person at the DeYor Performing Arts Center Box Office Monday through Friday from 10am to 5pm. Ticket sales will be available 1 hour prior to performances at The Youngstown Playhouse downtown location.
URL:https://spanningtheneed.com/event/the-lyons/
LOCATION:Youngstown Playhouse Downtown\, 220 W. Boardman St.\, Youngstown\, 44503\, United States
CATEGORIES:Downtown Youngstown,Event,Events,Theater
ATTACH;FMTTYPE=image/jpeg:https://spanningtheneed.com/wp-content/uploads/2025/12/The-Lyons-Sx4QCF.jpg
END:VEVENT
BEGIN:VEVENT
DTSTART;TZID=America/New_York:20260321T193000
DTEND;TZID=America/New_York:20260321T193000
DTSTAMP:20260420T211413
CREATED:20251226T120107Z
LAST-MODIFIED:20260313T144518Z
UID:50103-1774121400-1774121400@spanningtheneed.com
SUMMARY:The Lyons
DESCRIPTION:The Youngstown Playhouse presents The Lyons March 20-29\, 2026 at The Youngstown Playhouse downtown location. \nBen Lyons is dying. When his wife\, Rita\, and grown children gather to say goodbye\, they learn that\, despite being a family\, each of them is utterly isolated\, afraid of closeness\, and afraid of solitude. They are propelled into foreign territory – human connection. \nShowtimes are: \nFriday\, March 20 – 7:30pm\nSaturday\, March 21 – 7:30pm\nSunday\, March 22 – 2:30pm\nFriday\, March 27 – 7:30pm\nSaturday\, March 28 – 7:30pm\nSunday\, March 29 – 2:30pm \nTickets may be purchased on the Experience Your Arts website or in-person at the DeYor Performing Arts Center Box Office Monday through Friday from 10am to 5pm. Ticket sales will be available 1 hour prior to performances at The Youngstown Playhouse downtown location.
URL:https://spanningtheneed.com/event/the-lyons-2/
LOCATION:Youngstown Playhouse Downtown\, 220 W. Boardman St.\, Youngstown\, 44503\, United States
CATEGORIES:Downtown Youngstown,Event,Events,Theater
ATTACH;FMTTYPE=image/jpeg:https://spanningtheneed.com/wp-content/uploads/2025/12/The-Lyons-Sx4QCF.jpg
END:VEVENT
BEGIN:VEVENT
DTSTART;TZID=America/New_York:20260322T143000
DTEND;TZID=America/New_York:20260322T143000
DTSTAMP:20260420T211413
CREATED:20251226T120108Z
LAST-MODIFIED:20260313T144518Z
UID:50104-1774189800-1774189800@spanningtheneed.com
SUMMARY:The Lyons
DESCRIPTION:The Youngstown Playhouse presents The Lyons March 20-29\, 2026 at The Youngstown Playhouse downtown location. \nBen Lyons is dying. When his wife\, Rita\, and grown children gather to say goodbye\, they learn that\, despite being a family\, each of them is utterly isolated\, afraid of closeness\, and afraid of solitude. They are propelled into foreign territory – human connection. \nShowtimes are: \nFriday\, March 20 – 7:30pm\nSaturday\, March 21 – 7:30pm\nSunday\, March 22 – 2:30pm\nFriday\, March 27 – 7:30pm\nSaturday\, March 28 – 7:30pm\nSunday\, March 29 – 2:30pm \nTickets may be purchased on the Experience Your Arts website or in-person at the DeYor Performing Arts Center Box Office Monday through Friday from 10am to 5pm. Ticket sales will be available 1 hour prior to performances at The Youngstown Playhouse downtown location.
URL:https://spanningtheneed.com/event/the-lyons-3/
LOCATION:Youngstown Playhouse Downtown\, 220 W. Boardman St.\, Youngstown\, 44503\, United States
CATEGORIES:Downtown Youngstown,Event,Events,Theater
ATTACH;FMTTYPE=image/jpeg:https://spanningtheneed.com/wp-content/uploads/2025/12/The-Lyons-Sx4QCF.jpg
END:VEVENT
BEGIN:VEVENT
DTSTART;TZID=America/New_York:20260327T193000
DTEND;TZID=America/New_York:20260327T193000
DTSTAMP:20260420T211413
CREATED:20260102T140100Z
LAST-MODIFIED:20260313T144518Z
UID:50127-1774639800-1774639800@spanningtheneed.com
SUMMARY:The Lyons
DESCRIPTION:The Youngstown Playhouse presents The Lyons March 20-29\, 2026 at The Youngstown Playhouse downtown location. \nBen Lyons is dying. When his wife\, Rita\, and grown children gather to say goodbye\, they learn that\, despite being a family\, each of them is utterly isolated\, afraid of closeness\, and afraid of solitude. They are propelled into foreign territory – human connection. \nShowtimes are: \nFriday\, March 20 – 7:30pm\nSaturday\, March 21 – 7:30pm\nSunday\, March 22 – 2:30pm\nFriday\, March 27 – 7:30pm\nSaturday\, March 28 – 7:30pm\nSunday\, March 29 – 2:30pm \nTickets may be purchased on the Experience Your Arts website or in-person at the DeYor Performing Arts Center Box Office Monday through Friday from 10am to 5pm. Ticket sales will be available 1 hour prior to performances at The Youngstown Playhouse downtown location.
URL:https://spanningtheneed.com/event/the-lyons-4/
LOCATION:Youngstown Playhouse Downtown\, 220 W. Boardman St.\, Youngstown\, 44503\, United States
CATEGORIES:Downtown Youngstown,Event,Events,Theater
ATTACH;FMTTYPE=image/jpeg:https://spanningtheneed.com/wp-content/uploads/2025/12/The-Lyons-Sx4QCF.jpg
END:VEVENT
BEGIN:VEVENT
DTSTART;TZID=America/New_York:20260328T193000
DTEND;TZID=America/New_York:20260328T193000
DTSTAMP:20260420T211413
CREATED:20260102T140100Z
LAST-MODIFIED:20260313T144518Z
UID:50128-1774726200-1774726200@spanningtheneed.com
SUMMARY:The Lyons
DESCRIPTION:The Youngstown Playhouse presents The Lyons March 20-29\, 2026 at The Youngstown Playhouse downtown location. \nBen Lyons is dying. When his wife\, Rita\, and grown children gather to say goodbye\, they learn that\, despite being a family\, each of them is utterly isolated\, afraid of closeness\, and afraid of solitude. They are propelled into foreign territory – human connection. \nShowtimes are: \nFriday\, March 20 – 7:30pm\nSaturday\, March 21 – 7:30pm\nSunday\, March 22 – 2:30pm\nFriday\, March 27 – 7:30pm\nSaturday\, March 28 – 7:30pm\nSunday\, March 29 – 2:30pm \nTickets may be purchased on the Experience Your Arts website or in-person at the DeYor Performing Arts Center Box Office Monday through Friday from 10am to 5pm. Ticket sales will be available 1 hour prior to performances at The Youngstown Playhouse downtown location.
URL:https://spanningtheneed.com/event/the-lyons-5/
LOCATION:Youngstown Playhouse Downtown\, 220 W. Boardman St.\, Youngstown\, 44503\, United States
CATEGORIES:Downtown Youngstown,Event,Events,Theater
ATTACH;FMTTYPE=image/jpeg:https://spanningtheneed.com/wp-content/uploads/2025/12/The-Lyons-Sx4QCF.jpg
END:VEVENT
BEGIN:VEVENT
DTSTART;TZID=America/New_York:20260329T143000
DTEND;TZID=America/New_York:20260329T143000
DTSTAMP:20260420T211413
CREATED:20260102T140101Z
LAST-MODIFIED:20260313T144519Z
UID:50129-1774794600-1774794600@spanningtheneed.com
SUMMARY:The Lyons
DESCRIPTION:The Youngstown Playhouse presents The Lyons March 20-29\, 2026 at The Youngstown Playhouse downtown location. \nBen Lyons is dying. When his wife\, Rita\, and grown children gather to say goodbye\, they learn that\, despite being a family\, each of them is utterly isolated\, afraid of closeness\, and afraid of solitude. They are propelled into foreign territory – human connection. \nShowtimes are: \nFriday\, March 20 – 7:30pm\nSaturday\, March 21 – 7:30pm\nSunday\, March 22 – 2:30pm\nFriday\, March 27 – 7:30pm\nSaturday\, March 28 – 7:30pm\nSunday\, March 29 – 2:30pm \nTickets may be purchased on the Experience Your Arts website or in-person at the DeYor Performing Arts Center Box Office Monday through Friday from 10am to 5pm. Ticket sales will be available 1 hour prior to performances at The Youngstown Playhouse downtown location.
URL:https://spanningtheneed.com/event/the-lyons-6/
LOCATION:Youngstown Playhouse Downtown\, 220 W. Boardman St.\, Youngstown\, 44503\, United States
CATEGORIES:Downtown Youngstown,Event,Events,Theater
ATTACH;FMTTYPE=image/jpeg:https://spanningtheneed.com/wp-content/uploads/2025/12/The-Lyons-Sx4QCF.jpg
END:VEVENT
END:VCALENDAR