BEGIN:VCALENDAR
VERSION:2.0
PRODID:-//Spanning the Need: Good News, Inspiring, the Uninspired. - ECPv6.15.20//NONSGML v1.0//EN
CALSCALE:GREGORIAN
METHOD:PUBLISH
X-WR-CALNAME:Spanning the Need: Good News, Inspiring, the Uninspired.
X-ORIGINAL-URL:https://spanningtheneed.com
X-WR-CALDESC:Events for Spanning the Need: Good News, Inspiring, the Uninspired.
REFRESH-INTERVAL;VALUE=DURATION:PT1H
X-Robots-Tag:noindex
X-PUBLISHED-TTL:PT1H
BEGIN:VTIMEZONE
TZID:America/New_York
BEGIN:DAYLIGHT
TZOFFSETFROM:-0500
TZOFFSETTO:-0400
TZNAME:EDT
DTSTART:20250309T070000
END:DAYLIGHT
BEGIN:STANDARD
TZOFFSETFROM:-0400
TZOFFSETTO:-0500
TZNAME:EST
DTSTART:20251102T060000
END:STANDARD
BEGIN:DAYLIGHT
TZOFFSETFROM:-0500
TZOFFSETTO:-0400
TZNAME:EDT
DTSTART:20260308T070000
END:DAYLIGHT
BEGIN:STANDARD
TZOFFSETFROM:-0400
TZOFFSETTO:-0500
TZNAME:EST
DTSTART:20261101T060000
END:STANDARD
BEGIN:DAYLIGHT
TZOFFSETFROM:-0500
TZOFFSETTO:-0400
TZNAME:EDT
DTSTART:20270314T070000
END:DAYLIGHT
BEGIN:STANDARD
TZOFFSETFROM:-0400
TZOFFSETTO:-0500
TZNAME:EST
DTSTART:20271107T060000
END:STANDARD
END:VTIMEZONE
BEGIN:VEVENT
DTSTART;VALUE=DATE:20260122
DTEND;VALUE=DATE:20260123
DTSTAMP:20260420T074510
CREATED:20230115T180737Z
LAST-MODIFIED:20230115T180737Z
UID:15170-1769040000-1769126399@spanningtheneed.com
SUMMARY:Celebration of Life Day
DESCRIPTION:Though Celebration of Life Day\, which lands on January 22\, was originally instituted to celebrate the children in our lives\, it has come to signify all that’s good about being alive. It’s easy to forget sometimes\, but we are all fortunate to be here. Take time to celebrate that the good far outweighs the bad in this life. It all starts with gratitude and appreciation for where you are right now\, and wherever you hope your dreams take you. Every life is precious\, individual\, and a huge gift\, so take a little extra time today to celebrate it. \n\n\n \nThough Ronald Regan originally established the holiday to send an anti-abortion message\, the Celebration of Life Day has come to be a day to celebrate both the lives of children and ourselves. Celebration of Life Day was originally called National Sanctity of Human Life Day and was proclaimed in January 1984 by Ronald Regan. At the time\, President Regan chose to harken back to the landmark abortion case Roe v Wade by placing National Sanctity of Human Life Day on the 11-year anniversary of the decision on the case. \nAnti-abortion groups championed the holiday and felt that it expressed their sentiments on the importance of human life at all stages. This belief has been echoed in Donald Trump’s statement on the day from 2019. Organizations who champion the right to choose\, like Planned Parenthood\, denounced the day as a way of limiting women’s rights to autonomy over their bodies. \n\n\n \nThe history of National Sanctity of Human Life/Celebration of Life Day has been rocky. Though both Bush presidencies continued the holiday\, it was discontinued for eight years under President Bill Clinton. Donald Trump has continued the holiday throughout his presidency\, as well\, and some churches have even marked it as a holy day on their calendars. The holiday routinely falls on a Sunday for this religious reason\, although only in 2018 Donald Trump proclaimed it be celebrated on a Monday. \nToday\, many view the Celebration of Life Day as a day to spend extra time with their nieces\, nephews\, children\, grandchildren\, or even just kids they babysit. Every human life is precious\, and today is the day to remind ourselves we are all lucky to be here and lead the lives we do. Despite our individual and group challenges\, there is always good to be found and gratitude to be shown – and what better day to find the positive than Celebration of Life Day? \nSource Link
URL:https://spanningtheneed.com/event/celebration-of-life-day/
CATEGORIES:Community,Lifestyle
ATTACH;FMTTYPE=image/jpeg:https://spanningtheneed.com/wp-content/uploads/2023/01/celebrationof-life.jpeg
ORGANIZER;CN="Spanning the Need":MAILTO:info@spanningtheneed.com
END:VEVENT
BEGIN:VEVENT
DTSTART;VALUE=DATE:20260120
DTEND;VALUE=DATE:20260121
DTSTAMP:20260420T074510
CREATED:20230115T180316Z
LAST-MODIFIED:20230115T180316Z
UID:15164-1768867200-1768953599@spanningtheneed.com
SUMMARY:National Cheese Lover's Day
DESCRIPTION:On January 20\, get ready to ‘havarti’ a ‘gouda’ time\, because it’s National Cheese Lover’s Day! Have you ever wondered how the first human discovered cheese? We’ve wondered that too\, and we’ll probably never find out. All we know is that it was love at first bite; when the first human tasted the salty\, tangy\, delicious goodness of cheese\, they were hooked. And we can definitively say that human history was forever changed. Cheese might have had mysterious beginnings over 7\,000 years ago\, but it’s insanely popular today. In the U.S\, one-third of all milk produced in this country goes into cheese production. It’s a multi-billion dollar industry! We’re ready to celebrate it. \n\n\n \n\n\n\n\nWe celebrate and explore the wonderful flavors of cheese on National Cheese Lovers Day on January 20. \nIt seems like cheese has been around forever. There aren’t any records pinpointing the exact event when cheese was created\, but the earliest record of pasteurizing cheese dates back to 5500 B.C. in the geographical region that’s now Poland. The earliest cheeses were mostly cottage cheese churned at home\, and this is likely how cheesemaking started. \nThousands of years ago\, milk was transported by people by storing it in the stomachs of sheep. When left for a few days\, the milk would separate into whey and curd. Retaining this residue and preserving it with salt led to the formation of cheese. Today\, there are more than 1\,800 types of cheese in the world. \n\n\n \nThe rest of the history of cheese is as extravagant and full of flavor as cheese itself. Enjoyed by royalty\, the poor\, and modern-day consumers\, there is something for everyone. Some parts of the world are very secretive about their cheese heritage\, keeping the ingredients and techniques private. \nCheesemaking itself is a very sensitive process. Everything from the environment\, to the temperature of the milk will impact the taste and aroma of the cheese.
URL:https://spanningtheneed.com/event/national-cheese-lovers-day/
CATEGORIES:Food
ATTACH;FMTTYPE=image/jpeg:https://spanningtheneed.com/wp-content/uploads/2023/01/types-of-cheese-jpg-1.jpg
ORGANIZER;CN="Spanning the Need":MAILTO:info@spanningtheneed.com
END:VEVENT
END:VCALENDAR