BEGIN:VCALENDAR
VERSION:2.0
PRODID:-//Spanning the Need: Good News, Inspiring, the Uninspired. - ECPv6.15.20//NONSGML v1.0//EN
CALSCALE:GREGORIAN
METHOD:PUBLISH
X-ORIGINAL-URL:https://spanningtheneed.com
X-WR-CALDESC:Events for Spanning the Need: Good News, Inspiring, the Uninspired.
REFRESH-INTERVAL;VALUE=DURATION:PT1H
X-Robots-Tag:noindex
X-PUBLISHED-TTL:PT1H
BEGIN:VTIMEZONE
TZID:America/New_York
BEGIN:DAYLIGHT
TZOFFSETFROM:-0500
TZOFFSETTO:-0400
TZNAME:EDT
DTSTART:20250309T070000
END:DAYLIGHT
BEGIN:STANDARD
TZOFFSETFROM:-0400
TZOFFSETTO:-0500
TZNAME:EST
DTSTART:20251102T060000
END:STANDARD
BEGIN:DAYLIGHT
TZOFFSETFROM:-0500
TZOFFSETTO:-0400
TZNAME:EDT
DTSTART:20260308T070000
END:DAYLIGHT
BEGIN:STANDARD
TZOFFSETFROM:-0400
TZOFFSETTO:-0500
TZNAME:EST
DTSTART:20261101T060000
END:STANDARD
BEGIN:DAYLIGHT
TZOFFSETFROM:-0500
TZOFFSETTO:-0400
TZNAME:EDT
DTSTART:20270314T070000
END:DAYLIGHT
BEGIN:STANDARD
TZOFFSETFROM:-0400
TZOFFSETTO:-0500
TZNAME:EST
DTSTART:20271107T060000
END:STANDARD
END:VTIMEZONE
BEGIN:VEVENT
DTSTART;VALUE=DATE:20260329
DTEND;VALUE=DATE:20260330
DTSTAMP:20260421T124550
CREATED:20230329T131509Z
LAST-MODIFIED:20230329T131509Z
UID:17042-1774742400-1774828799@spanningtheneed.com
SUMMARY:National Vietnam Veterans Day
DESCRIPTION:National Vietnam War Veterans Day on March 29 honors the men and women who served and sacrificed during the longest conflict in United States history. \n\n\n \n#VietnamWarVeteransDay\nOn March 29\, 1973\, combat and combat support units withdrew from South Vietnam. Generations later\, Veterans of this time period are gaining the respect that was not so freely given upon their return. Involving five U.S. presidents\, crossing nearly two decades and 500\,000 U.S.military personnel\, it left an indelible mark on the American psyche. \nReturning veterans did not always receive respectful welcomes upon their arrival on American soil. Over 58\,000 killed\, never to return. The observance recognizes the military service of these men and women who answered the call to serve their country when she needed them. They didn’t make the decision to go to war. \nThroughout National Vietnam War Veterans Day\, we recognize the service and duty rendered by all servicemen and women of this era. \n\n\n \nHOW TO OBSERVE VIETNAM WAR VETERANS DAY\n\nOrganizations across the country host events honoring National Vietnam War Veterans Day. These events include memorials\, speeches\, and luncheons honoring Vietnam veterans and their families.\nInvite a veteran you know to join you or help organize an event.\nThank a Vietnam Veteran.\nBuy them a drink or lunch.\nVisit a local memorial. Volunteer to help organize events.\nSupport a veteran’s organization in your community. Volunteer and offer your skills.\nWatch a Vietnam War documentary. Some films we found are The Vietnam War: A Film by Ken Burns and Lynn Novick or Last Days in Vietnam directed by Rory Kennedy or Vietnam Nurses by Timeline.\nRead about the Vietnam War. We recommend: Vietnam – A History by Stanley Karnow or They Marched into Sunlight: War and Peace\, Vietnam and America\, October 1967 by David Maraniss or The Quiet American by Graham Green and Robert Stone.\nSend them a shout-out using #VietnamWarVeteransDay on social media.\n\nSource Link
URL:https://spanningtheneed.com/event/national-vietnam-veterans-day/
CATEGORIES:Military
ATTACH;FMTTYPE=image/jpeg:https://spanningtheneed.com/wp-content/uploads/2023/03/National-Vietnam-War-Veterans-Day-March-29.jpg-copy.jpg
ORGANIZER;CN="Spanning the Need":MAILTO:info@spanningtheneed.com
END:VEVENT
END:VCALENDAR