BEGIN:VCALENDAR
VERSION:2.0
PRODID:-//Spanning the Need: Good News, Inspiring, the Uninspired. - ECPv6.15.20//NONSGML v1.0//EN
CALSCALE:GREGORIAN
METHOD:PUBLISH
X-WR-CALNAME:Spanning the Need: Good News, Inspiring, the Uninspired.
X-ORIGINAL-URL:https://spanningtheneed.com
X-WR-CALDESC:Events for Spanning the Need: Good News, Inspiring, the Uninspired.
REFRESH-INTERVAL;VALUE=DURATION:PT1H
X-Robots-Tag:noindex
X-PUBLISHED-TTL:PT1H
BEGIN:VTIMEZONE
TZID:America/New_York
BEGIN:DAYLIGHT
TZOFFSETFROM:-0500
TZOFFSETTO:-0400
TZNAME:EDT
DTSTART:20250309T070000
END:DAYLIGHT
BEGIN:STANDARD
TZOFFSETFROM:-0400
TZOFFSETTO:-0500
TZNAME:EST
DTSTART:20251102T060000
END:STANDARD
BEGIN:DAYLIGHT
TZOFFSETFROM:-0500
TZOFFSETTO:-0400
TZNAME:EDT
DTSTART:20260308T070000
END:DAYLIGHT
BEGIN:STANDARD
TZOFFSETFROM:-0400
TZOFFSETTO:-0500
TZNAME:EST
DTSTART:20261101T060000
END:STANDARD
BEGIN:DAYLIGHT
TZOFFSETFROM:-0500
TZOFFSETTO:-0400
TZNAME:EDT
DTSTART:20270314T070000
END:DAYLIGHT
BEGIN:STANDARD
TZOFFSETFROM:-0400
TZOFFSETTO:-0500
TZNAME:EST
DTSTART:20271107T060000
END:STANDARD
END:VTIMEZONE
BEGIN:VEVENT
DTSTART;VALUE=DATE:20260318
DTEND;VALUE=DATE:20260319
DTSTAMP:20260422T062617
CREATED:20230318T151938Z
LAST-MODIFIED:20230318T151938Z
UID:16694-1773792000-1773878399@spanningtheneed.com
SUMMARY:National Supreme Sacrifice Day
DESCRIPTION:On March 18th\, National Supreme Sacrifice Day honors those who have made tremendous sacrifices for the sake and the good of others as well as those who sacrifice their lives every day for us. \n\n\n \n#SupremeSacrificeDay\nWe may most readily call to mind the men and women in uniform who have laid down their lives protecting their country and communities. This day also honors those who may have stepped forward during times of crisis to rescue a stranger or a neighbor and gave the supreme sacrifice that day. \nThese sacrifices come in many forms. We don’t always recognize them when we see them\, nor do we always expect them. Like in the case of one young Miner who saved the lives of 11-year-old Emmet and 8-year-old Myrdith when the sleigh they were in overturned during a blizzard so fierce they couldn’t see their house\, though they were only 200 yards away. Wind howling so loudly\, they couldn’t hear their father’s voice calling to them. On March 15\, 1920\, they’d set home from school in rural North Dakota and been caught up in the blizzard. Their 16-year-old sister\, Hazel Miner protected her siblings with her body\, keeping the blankets in place over her siblings through the night. Hazel Miner died that night\, but her actions saved her siblings’ lives. \nThese sacrifices don’t always come in uniform and are often unsung. Often\, these heroes step up when we least expect it and when we need it most. \n\n\n \nHOW TO OBSERVE SUPREME SACRIFICE DAY\n\nHonor someone who gave the ultimate sacrifice.\nVisit with their families\, support them and the people in uniform who place their lives on the line\, daily.\nVisit a local memorial and learn the names of local heroes.\nParticipate in events around your state that support the military and first responders.\nUse #SupremeSacrificeDay to post on social media.\n\nSource Link
URL:https://spanningtheneed.com/event/national-supreme-sacrifice-day/
CATEGORIES:Military
ATTACH;FMTTYPE=image/jpeg:https://spanningtheneed.com/wp-content/uploads/2023/03/National-Supreme-Sacrifice-Day-March-18.jpg-copy.jpg
ORGANIZER;CN="Spanning the Need":MAILTO:info@spanningtheneed.com
END:VEVENT
END:VCALENDAR