BEGIN:VCALENDAR
VERSION:2.0
PRODID:-//Spanning the Need: Good News, Inspiring, the Uninspired. - ECPv6.15.20//NONSGML v1.0//EN
CALSCALE:GREGORIAN
METHOD:PUBLISH
X-ORIGINAL-URL:https://spanningtheneed.com
X-WR-CALDESC:Events for Spanning the Need: Good News, Inspiring, the Uninspired.
REFRESH-INTERVAL;VALUE=DURATION:PT1H
X-Robots-Tag:noindex
X-PUBLISHED-TTL:PT1H
BEGIN:VTIMEZONE
TZID:America/New_York
BEGIN:DAYLIGHT
TZOFFSETFROM:-0500
TZOFFSETTO:-0400
TZNAME:EDT
DTSTART:20250309T070000
END:DAYLIGHT
BEGIN:STANDARD
TZOFFSETFROM:-0400
TZOFFSETTO:-0500
TZNAME:EST
DTSTART:20251102T060000
END:STANDARD
BEGIN:DAYLIGHT
TZOFFSETFROM:-0500
TZOFFSETTO:-0400
TZNAME:EDT
DTSTART:20260308T070000
END:DAYLIGHT
BEGIN:STANDARD
TZOFFSETFROM:-0400
TZOFFSETTO:-0500
TZNAME:EST
DTSTART:20261101T060000
END:STANDARD
BEGIN:DAYLIGHT
TZOFFSETFROM:-0500
TZOFFSETTO:-0400
TZNAME:EDT
DTSTART:20270314T070000
END:DAYLIGHT
BEGIN:STANDARD
TZOFFSETFROM:-0400
TZOFFSETTO:-0500
TZNAME:EST
DTSTART:20271107T060000
END:STANDARD
END:VTIMEZONE
BEGIN:VEVENT
DTSTART;VALUE=DATE:20260311
DTEND;VALUE=DATE:20260312
DTSTAMP:20260421T050742
CREATED:20230311T155911Z
LAST-MODIFIED:20230311T155911Z
UID:16480-1773187200-1773273599@spanningtheneed.com
SUMMARY:National Funeral Director and Mortician Recognition Day
DESCRIPTION:National Funeral Director and Mortician Recognition Day on March 11th reminds us to thank the professionals who consider every need during the most challenging time in our lives. \n\n\n \n#FuneralDirectorMorticianRecognition\nFuneral directors and morticians dedicate their lives to helping us celebrate our loved ones. They bring together the memories and achievements of someone we’ve lost to death. With professional guidance and compassion\, funeral directors help with every step of planning a funeral. While the news settles\, these experts understand how emotional and stressful the process is. \nFuneral directors come equipped with a perfect skillset. Their compassion and excellent organizational skills guide us through a celebration of someone we loved dearly. In addition\, being a funeral director means being a good listener\, a skill many of them have in spades. \nThey work hard to attain their skills\, too. Both morticians and funeral directors study mortuary science\, attaining an associate degree or higher. A 1-3 year apprenticeship follows their degree. Funeral directors must be licensed. \n\n\n \nBeyond their training\, funeral directors know how to put people at ease. When we grieve\, the pain of loss takes on many different faces. Funeral directors act as guides and help to fulfill the wishes of our loved ones. When the pain and suffering ends\, the mortician and funeral director provide a sense of peace and unity at a time that can seem chaotic even at its best.HOW TO OBSERVE FUNERAL DIRECTOR AND MORTICIAN RECOGNITION\nThank a funeral director or a mortician for their time and care. Show your appreciation of their services and recognize the work they do in one of several ways: \nSend a thank you card letting them know how much their services mean to you.\nRecommend their services to others.\nPreplan your funeral. Put your funeral in the hands of the business that has proven to you they can care for your family.\nShare your experiences as a funeral director or mortician.\nUse #FuneralDirectorMorticianRecognition to share on social media. \nNATIONAL FUNERAL DIRECTOR & MORTICIAN RECOGNITION DAY HISTORY\nIn 2008\, Congress passed a resolution designating March 11th as National Funeral Director and Mortician Recognition Day.
URL:https://spanningtheneed.com/event/national-funeral-director-and-mortician-recognition-day/
CATEGORIES:Lifestyle
ORGANIZER;CN="Spanning the Need":MAILTO:info@spanningtheneed.com
END:VEVENT
BEGIN:VEVENT
DTSTART;VALUE=DATE:20260311
DTEND;VALUE=DATE:20260312
DTSTAMP:20260421T050742
CREATED:20230311T161526Z
LAST-MODIFIED:20230311T161526Z
UID:16477-1773187200-1773273599@spanningtheneed.com
SUMMARY:National Worship of Tools Day
DESCRIPTION:March 11th is National Worship of Tools Day. This is a day to go out into the garage\, the tool shed\, the storage closet\, or wherever it is you keep your tools.  You can clean them\, reorganize them\, make something new with them or maybe go to the store and buy a new one. \n\n\n \n#NationalWorshipOfToolsDay\nIt is hard to imagine the world without tools as they are a part of our daily lives. From the hammer\, the screwdriver\, and the wrench to the most sophisticated tools\, they are necessary. Upon their use\, they sometimes get rusty and need to be shined\, they get dirty and need to be cleaned\, they get dull and need to be sharpened. \nTool enthusiasts know a good tool when they see one. Often\, they have a favorite brand or style. And they never seem to have enough\, either. Collecting them is nearly as important as using them. Another common discussion about tools is the borrowing of tools. From one neighbor to another\, tools have been loaned\, borrowed\, and returned numerous times. The funny papers and the sitcoms humorously remind us of this from time to time. And sometimes\, so do our neighbors. \n\n\n \nHOW TO OBSERVE NATIONAL WORSHIP OF TOOLS DAY\n\nSpend some extra time shining up your tools or fixing them if they needed it. Taking care of your tools helps them last longer\, which is a benefit for you.\nGo shopping for new tools. You know there must be one you don’t have.\nGet to work on your latest project and put your tools to work!\nUse #WorshipOfToolsDay to post on social media.
URL:https://spanningtheneed.com/event/national-worship-of-tools-day/
CATEGORIES:Lifestyle
ATTACH;FMTTYPE=image/jpeg:https://spanningtheneed.com/wp-content/uploads/2023/03/National-Worship-of-Tools-Day-March-11.jpg-copy.jpg
ORGANIZER;CN="Spanning the Need":MAILTO:info@spanningtheneed.com
END:VEVENT
END:VCALENDAR