BEGIN:VCALENDAR
VERSION:2.0
PRODID:-//Spanning the Need: Good News, Inspiring, the Uninspired. - ECPv6.15.20//NONSGML v1.0//EN
CALSCALE:GREGORIAN
METHOD:PUBLISH
X-ORIGINAL-URL:https://spanningtheneed.com
X-WR-CALDESC:Events for Spanning the Need: Good News, Inspiring, the Uninspired.
REFRESH-INTERVAL;VALUE=DURATION:PT1H
X-Robots-Tag:noindex
X-PUBLISHED-TTL:PT1H
BEGIN:VTIMEZONE
TZID:America/New_York
BEGIN:DAYLIGHT
TZOFFSETFROM:-0500
TZOFFSETTO:-0400
TZNAME:EDT
DTSTART:20250309T070000
END:DAYLIGHT
BEGIN:STANDARD
TZOFFSETFROM:-0400
TZOFFSETTO:-0500
TZNAME:EST
DTSTART:20251102T060000
END:STANDARD
BEGIN:DAYLIGHT
TZOFFSETFROM:-0500
TZOFFSETTO:-0400
TZNAME:EDT
DTSTART:20260308T070000
END:DAYLIGHT
BEGIN:STANDARD
TZOFFSETFROM:-0400
TZOFFSETTO:-0500
TZNAME:EST
DTSTART:20261101T060000
END:STANDARD
BEGIN:DAYLIGHT
TZOFFSETFROM:-0500
TZOFFSETTO:-0400
TZNAME:EDT
DTSTART:20270314T070000
END:DAYLIGHT
BEGIN:STANDARD
TZOFFSETFROM:-0400
TZOFFSETTO:-0500
TZNAME:EST
DTSTART:20271107T060000
END:STANDARD
END:VTIMEZONE
BEGIN:VEVENT
DTSTART;VALUE=DATE:20260727
DTEND;VALUE=DATE:20260728
DTSTAMP:20260424T042605
CREATED:20220727T012540Z
LAST-MODIFIED:20220727T012935Z
UID:7572-1785110400-1785196799@spanningtheneed.com
SUMMARY:National Love is Kind Day
DESCRIPTION:NATIONAL LOVE IS KIND DAY | July 27\nJust as on July 4th Americans celebrate their independence\, so is July 27th to be celebrated—a day to celebrate independence from the abuser. July 27th\, National Love is Kind Day is the day to: \n\nCelebrate for all victims of domestic violence/domestic abuse their FREEDOM and INDEPENDENCE from their abuser.\nRecognize our right to be treated with KINDNESS. Because real love is kind\, not terrorizing.\nRealize that kindness is the path to healthy and safer relationships\, families\, society\, and the world.\nGive voice for and hope and support to others who are still suffering\, often in silence.\nSpread messages how we can be kind to one another\, especially to those closest to us.\nRemember that love is not abusive\, violent\, demeaning or dehumanizing.  If someone uses love as an excuse for their hurtful behavior\, it’s not real love.\n\nWith every generation\, the cycle of abuse continues to cripple families\, especially women and children who are most vulnerable. The cycle of abuse must stop now. \nCelebrating National Love is Kind Day\, Joyful and Productive Life on July 27th \n \n#NationalLoveIsKindDay\nNational Love is Kind Day encourages you to become aware of how you are treating people\, how people are treating you\, and how you can become emboldened\, supported\, and empowered to lead the joyful and productive life you deserve. With improved and proper support\, families can know and experience the freedom and love found in an abuse-free home. Children grow up with positive role models\, and both adults and children lead more productive\, happy\, and mentally healthy lives. \nThe day is an opportunity to say “No to abuse\, violence\, and ridicule! And begin saying\, “Yes\, to kindness!  And yes\, to sharing my voice! Yes\, I am worth it and my life matters. Kindness rules!”
URL:https://spanningtheneed.com/event/national-love-is-kind-day/
CATEGORIES:Learning,Lifestyle
ATTACH;FMTTYPE=image/jpeg:https://spanningtheneed.com/wp-content/uploads/2022/07/National-Love-is-Kind-Day-July-27-980x490.jpg-copy.jpg
END:VEVENT
END:VCALENDAR