BEGIN:VCALENDAR
VERSION:2.0
PRODID:-//Spanning the Need: Good News, Inspiring, the Uninspired. - ECPv6.15.20//NONSGML v1.0//EN
CALSCALE:GREGORIAN
METHOD:PUBLISH
X-WR-CALNAME:Spanning the Need: Good News, Inspiring, the Uninspired.
X-ORIGINAL-URL:https://spanningtheneed.com
X-WR-CALDESC:Events for Spanning the Need: Good News, Inspiring, the Uninspired.
REFRESH-INTERVAL;VALUE=DURATION:PT1H
X-Robots-Tag:noindex
X-PUBLISHED-TTL:PT1H
BEGIN:VTIMEZONE
TZID:America/New_York
BEGIN:DAYLIGHT
TZOFFSETFROM:-0500
TZOFFSETTO:-0400
TZNAME:EDT
DTSTART:20250309T070000
END:DAYLIGHT
BEGIN:STANDARD
TZOFFSETFROM:-0400
TZOFFSETTO:-0500
TZNAME:EST
DTSTART:20251102T060000
END:STANDARD
BEGIN:DAYLIGHT
TZOFFSETFROM:-0500
TZOFFSETTO:-0400
TZNAME:EDT
DTSTART:20260308T070000
END:DAYLIGHT
BEGIN:STANDARD
TZOFFSETFROM:-0400
TZOFFSETTO:-0500
TZNAME:EST
DTSTART:20261101T060000
END:STANDARD
BEGIN:DAYLIGHT
TZOFFSETFROM:-0500
TZOFFSETTO:-0400
TZNAME:EDT
DTSTART:20270314T070000
END:DAYLIGHT
BEGIN:STANDARD
TZOFFSETFROM:-0400
TZOFFSETTO:-0500
TZNAME:EST
DTSTART:20271107T060000
END:STANDARD
END:VTIMEZONE
BEGIN:VEVENT
DTSTART;VALUE=DATE:20260126
DTEND;VALUE=DATE:20260127
DTSTAMP:20260423T195549
CREATED:20230126T134422Z
LAST-MODIFIED:20230126T134422Z
UID:15405-1769385600-1769471999@spanningtheneed.com
SUMMARY:National Spouses Day
DESCRIPTION:National Spouses Day on January 26th each year celebrates the bond between two people and sets aside time for couples to show each other gratitude. \n\n\n \n#NationalSpousesDay\nDedicated to recognizing spouses everywhere\, the observance reminds us to take time for our mate. From being thankful for the fulfillment and security of a long-term relationship to the boost of morale and well-being provided by spouses\, there are many reasons to celebrate. This day is a time to show your spouse that you care and appreciate all of the things that he or she does for you and the home. \nLife gets busy\, and we can often take for granted how our spouse improves our life. Pay a heartfelt thank you or compliment to the love of your life. Since the day is a non-gift giving day\, spend time together and reconnect. Don’t forget to say\, “I love you.” \n\n\n \nHOW TO OBSERVE NATIONAL SPOUSES DAY\nIf it has been a while since you have expressed appreciation to the one with whom you are married\, now is your chance. Again\, this day is not about giving gifts but spending time together\, enjoying each other\, and appreciating each other. Use #NationalSpousesDay to post on social media. \nSource Link
URL:https://spanningtheneed.com/event/national-spouses-day/
CATEGORIES:Lifestyle
ATTACH;FMTTYPE=image/jpeg:https://spanningtheneed.com/wp-content/uploads/2023/01/National-Spouses-Day-January-26-1.jpg-copy.jpg
ORGANIZER;CN="Spanning the Need":MAILTO:info@spanningtheneed.com
END:VEVENT
END:VCALENDAR