BEGIN:VCALENDAR
VERSION:2.0
PRODID:-//Spanning the Need: Good News, Inspiring, the Uninspired. - ECPv6.15.20//NONSGML v1.0//EN
CALSCALE:GREGORIAN
METHOD:PUBLISH
X-WR-CALNAME:Spanning the Need: Good News, Inspiring, the Uninspired.
X-ORIGINAL-URL:https://spanningtheneed.com
X-WR-CALDESC:Events for Spanning the Need: Good News, Inspiring, the Uninspired.
REFRESH-INTERVAL;VALUE=DURATION:PT1H
X-Robots-Tag:noindex
X-PUBLISHED-TTL:PT1H
BEGIN:VTIMEZONE
TZID:America/New_York
BEGIN:DAYLIGHT
TZOFFSETFROM:-0500
TZOFFSETTO:-0400
TZNAME:EDT
DTSTART:20250309T070000
END:DAYLIGHT
BEGIN:STANDARD
TZOFFSETFROM:-0400
TZOFFSETTO:-0500
TZNAME:EST
DTSTART:20251102T060000
END:STANDARD
BEGIN:DAYLIGHT
TZOFFSETFROM:-0500
TZOFFSETTO:-0400
TZNAME:EDT
DTSTART:20260308T070000
END:DAYLIGHT
BEGIN:STANDARD
TZOFFSETFROM:-0400
TZOFFSETTO:-0500
TZNAME:EST
DTSTART:20261101T060000
END:STANDARD
BEGIN:DAYLIGHT
TZOFFSETFROM:-0500
TZOFFSETTO:-0400
TZNAME:EDT
DTSTART:20270314T070000
END:DAYLIGHT
BEGIN:STANDARD
TZOFFSETFROM:-0400
TZOFFSETTO:-0500
TZNAME:EST
DTSTART:20271107T060000
END:STANDARD
END:VTIMEZONE
BEGIN:VEVENT
DTSTART;VALUE=DATE:20260425
DTEND;VALUE=DATE:20260426
DTSTAMP:20260424T234240
CREATED:20230429T140151Z
LAST-MODIFIED:20230429T140151Z
UID:18403-1777075200-1777161599@spanningtheneed.com
SUMMARY:Independent Bookstore Day
DESCRIPTION:On the last Saturday in April\, Independent Bookstore Day brings together the celebration of classics\, entrepreneurship and the joy of browsing through aisles of books. \n\n\n \n#IndependentBookstoreDay\nMake your way down to your locally owned bookstore where the shop owner knows your interests. Chat with other bibliophiles over collections or discover a new favorite. Introduce nieces and nephews to your childhood favorites and let them wow you with their knowledge of the latest trilogies. Get lost in biographies or historical fiction while debating the value of a mint condition cookbook from the 1860s. \n\n\n \nHOW TO OBSERVE INDEPENDENT BOOKSTORE DAY \nIndependent bookstores offer a peaceful place and a community often filled with local authors and voices who share stories. Visit your local independent bookstore and discover more for your imagination.  Use #IndependentBookstoreDay to share on social media. \nSource Link
URL:https://spanningtheneed.com/event/independent-bookstore-day/
CATEGORIES:Learning
ATTACH;FMTTYPE=image/jpeg:https://spanningtheneed.com/wp-content/uploads/2023/04/Independent-Bookstore-Day-Last-Saturday-in-April.jpg-copy.jpg
ORGANIZER;CN="Spanning the Need":MAILTO:info@spanningtheneed.com
END:VEVENT
BEGIN:VEVENT
DTSTART;VALUE=DATE:20260425
DTEND;VALUE=DATE:20260426
DTSTAMP:20260424T234240
CREATED:20230429T140210Z
LAST-MODIFIED:20230429T140210Z
UID:18399-1777075200-1777161599@spanningtheneed.com
SUMMARY:Sense of Smell Day
DESCRIPTION:Held on the last Saturday in April\, National Sense of Smell Day celebrates one of the five senses. Our sense of smell is more than a way to know when dinner is ready. It also plays a role as an early warning system\, triggers memories\, and interacts with our other senses. \n\n\n \n#SenseOfSmellDay\nDid you know\, scent cells renew every 30-60 days and are the only sense nerve cells that can regenerate. Those scent cells allow us to recognize smells from childhood\, triggering memories of Play-doh\, grandma’s cookies or pipe smoke. It’s also the only sense directly connected to the brain where all those memories are stored. \nTake a woman when house shopping. She’s more likely to smell unwelcome odors such as smoke\, pet urine\, or mold before a man. Women naturally have a better sense of smell. \nWhile the loss of smell occurs naturally with age\, it can also be a sign of illness\, especially a neurological disorder such as Parkinson’s disease or an early stage of Alzheimer’s disease. \nA human’s odor is like a fingerprint. Even when we wear deodorant or fragrances\, our scent combines with those for a unique combination. Babies recognize the smell of their mothers. Spouses know the scent of their partners\, too. \n\n\n \nHOW TO OBSERVE SENSE OF SMELL DAY\nMuseums\, children’s museums\, and science centers across the country participate in celebrating this holiday by offering hands-on activities and informational displays about the sense of smell. \nFor fun\, do a smell test at home. Collect items such as the ones listed below. Place a small amount of each item in individual containers. Cover them with a cloth and then take turns blindfolding family members to see if they can pass the smell test. \n\nlemon peel\nvanilla extract\ncoffee grounds\ntoothpaste\nchocolate\noil\nsawdust\nflower petals\nsomeone’s soap\n\nUse #SenseOfSmellDay to post on social media. \nSource Link
URL:https://spanningtheneed.com/event/sense-of-smell-day/
CATEGORIES:Learning
ATTACH;FMTTYPE=image/jpeg:https://spanningtheneed.com/wp-content/uploads/2023/04/National-Sense-of-Smell-Day-Last-Saturday-in-April.jpg-copy.jpg
ORGANIZER;CN="Spanning the Need":MAILTO:info@spanningtheneed.com
END:VEVENT
END:VCALENDAR