BEGIN:VCALENDAR
VERSION:2.0
PRODID:-//Spanning the Need: Good News, Inspiring, the Uninspired. - ECPv6.15.20//NONSGML v1.0//EN
CALSCALE:GREGORIAN
METHOD:PUBLISH
X-WR-CALNAME:Spanning the Need: Good News, Inspiring, the Uninspired.
X-ORIGINAL-URL:https://spanningtheneed.com
X-WR-CALDESC:Events for Spanning the Need: Good News, Inspiring, the Uninspired.
REFRESH-INTERVAL;VALUE=DURATION:PT1H
X-Robots-Tag:noindex
X-PUBLISHED-TTL:PT1H
BEGIN:VTIMEZONE
TZID:America/New_York
BEGIN:DAYLIGHT
TZOFFSETFROM:-0500
TZOFFSETTO:-0400
TZNAME:EDT
DTSTART:20250309T070000
END:DAYLIGHT
BEGIN:STANDARD
TZOFFSETFROM:-0400
TZOFFSETTO:-0500
TZNAME:EST
DTSTART:20251102T060000
END:STANDARD
BEGIN:DAYLIGHT
TZOFFSETFROM:-0500
TZOFFSETTO:-0400
TZNAME:EDT
DTSTART:20260308T070000
END:DAYLIGHT
BEGIN:STANDARD
TZOFFSETFROM:-0400
TZOFFSETTO:-0500
TZNAME:EST
DTSTART:20261101T060000
END:STANDARD
BEGIN:DAYLIGHT
TZOFFSETFROM:-0500
TZOFFSETTO:-0400
TZNAME:EDT
DTSTART:20270314T070000
END:DAYLIGHT
BEGIN:STANDARD
TZOFFSETFROM:-0400
TZOFFSETTO:-0500
TZNAME:EST
DTSTART:20271107T060000
END:STANDARD
END:VTIMEZONE
BEGIN:VEVENT
DTSTART;VALUE=DATE:20260127
DTEND;VALUE=DATE:20260128
DTSTAMP:20260421T030952
CREATED:20230127T151504Z
LAST-MODIFIED:20230127T151504Z
UID:15420-1769472000-1769558399@spanningtheneed.com
SUMMARY:National Chocolate Cake Day
DESCRIPTION:National Chocolate Cake Day celebrates the cake more people favor. And more often than not\, we celebrate our special occasions like anniversaries\, birthdays and weddings with cake. Why not enjoy chocolate cake on January 27th every year? \n\n\n \n\n#ChocolateCakeDay\n\nIn America\, chocolate was consumed primarily as a beverage until the 1830s or 40s. Chocolate cakes\, as we think of them today\, mostly did not exist then.  According to the Dover Post\, the chocolate cake was born in 1765 when a doctor and a chocolate maker teamed up in an old mill.  They ground up cocoa beans between huge millstones to make a thick syrup. The liquid was poured into molds shaped like cakes\, which were meant to be transformed into a beverage.  A popular Philadelphia cookbook author\, Eliza Leslie\, published the earliest chocolate cake recipe in 1847 in The Lady’s Receipt Book.  Unlike chocolate cakes we know today\, this recipe used chopped chocolate.  Other cooks of the time such as Sarah Tyson Rorer and Maria Parloa all made contributions to the development of the chocolate cake and were prolific authors of cookbooks. \nThe first boxed cake mix was created by a company called O. Duff and Sons in the late 1920s. Betty Crocker released their first dry cake mixes in 1947. \n\n\n \nHOW TO OBSERVE CHOCOLATE CAKE DAY\nWhen it comes to food holidays\, we know how to celebrate. This one is no different. Have some cake. Share it with someone else. Visit your favorite bakery and give them some credit\, too. Or\, if you have some mean baking skills\, show them off! We want to see them\, too. That means\, share your recipes\, take some pictures\, make a video and show off those delicious\, chocolatey cakes! We love how you celebrate these days\, so celebrate them with us! \nSource Link
URL:https://spanningtheneed.com/event/national-chocolate-cake-day/
CATEGORIES:Food
ORGANIZER;CN="Spanning the Need":MAILTO:info@spanningtheneed.com
END:VEVENT
END:VCALENDAR