BEGIN:VCALENDAR
VERSION:2.0
PRODID:-//Spanning the Need: Good News, Inspiring, the Uninspired. - ECPv6.15.20//NONSGML v1.0//EN
CALSCALE:GREGORIAN
METHOD:PUBLISH
X-WR-CALNAME:Spanning the Need: Good News, Inspiring, the Uninspired.
X-ORIGINAL-URL:https://spanningtheneed.com
X-WR-CALDESC:Events for Spanning the Need: Good News, Inspiring, the Uninspired.
REFRESH-INTERVAL;VALUE=DURATION:PT1H
X-Robots-Tag:noindex
X-PUBLISHED-TTL:PT1H
BEGIN:VTIMEZONE
TZID:America/New_York
BEGIN:DAYLIGHT
TZOFFSETFROM:-0500
TZOFFSETTO:-0400
TZNAME:EDT
DTSTART:20250309T070000
END:DAYLIGHT
BEGIN:STANDARD
TZOFFSETFROM:-0400
TZOFFSETTO:-0500
TZNAME:EST
DTSTART:20251102T060000
END:STANDARD
BEGIN:DAYLIGHT
TZOFFSETFROM:-0500
TZOFFSETTO:-0400
TZNAME:EDT
DTSTART:20260308T070000
END:DAYLIGHT
BEGIN:STANDARD
TZOFFSETFROM:-0400
TZOFFSETTO:-0500
TZNAME:EST
DTSTART:20261101T060000
END:STANDARD
BEGIN:DAYLIGHT
TZOFFSETFROM:-0500
TZOFFSETTO:-0400
TZNAME:EDT
DTSTART:20270314T070000
END:DAYLIGHT
BEGIN:STANDARD
TZOFFSETFROM:-0400
TZOFFSETTO:-0500
TZNAME:EST
DTSTART:20271107T060000
END:STANDARD
END:VTIMEZONE
BEGIN:VEVENT
DTSTART;VALUE=DATE:20260125
DTEND;VALUE=DATE:20260126
DTSTAMP:20260420T194611
CREATED:20230125T141424Z
LAST-MODIFIED:20230125T141424Z
UID:15385-1769299200-1769385599@spanningtheneed.com
SUMMARY:National Irish Coffee Day
DESCRIPTION:National Irish Coffee Day kicks off January 25th each year with a mug of strong coffee\, Irish whiskey\, sugar\, and topped with a layer of cream. \n\n\n \n#NationalIrishCoffeeDay\nOn a cold\, wet day in 1942 weary travelers to the small Shannon Airport in southwest Ireland found their way to a restaurant and chef Joe Sheridan. To warm his guests\, he served them hot coffee\, spiked with whiskey and topped with whipped cream. The passengers asked if the beverage was Brazilian coffee. Sheridan responded that it was Irish coffee.\nClick play and enjoy a story about National Irish Coffee Appreciation Day featuring our founder\, Marlo Anderson.  If you enjoy the 2 minute show\, subscribe with your favorite podcast player. \nA travel writer\, Stanton Delaplane\, brought Irish coffee to the United States after having it at Shannon Airport. \nDelaplane brought the idea to the Buena Vista Cafe on November 10\, 1952. After much trial and error\, sampling\, and a trip back to Ireland for a taste of the original\, Delaplane\, along with Buena Vista owners Jack Koeppler and George Freeberg\, were able to replicate the delicious coffee and the method for floating the cream on top of the coffee. \nHow to Make an Authentic Irish Coffee\nStarting with a warm glass\, fill 2/3rds full of freshly brewed coffee. Stir in a heaping teaspoon of sugar.  Add 1 ounce of Irish whiskey. \nAdding the cream\, so it floats is the tricky part. According to the Buena Vista account\, and at the suggestion of San Francisco’s mayor\, a dairyman\, cream that is 48 hours old\, is best. However\, others recommend whipping cream (not whipped cream) that has been lightly whipped or foamed. \nWhen the coffee has stopped swirling from stirring in the sugar\, pour the foamy cream over the back of a spoon. \nHOW TO OBSERVE NATIONAL IRISH COFFEE DAY\nWarm up with an Irish coffee. Use #NationalIrishCoffeeDay to post on social media. \nIf you want to explore more cocktails and their history\, read A-Z Cocktail Origins. \n\n\n \nNATIONAL IRISH COFFEE DAY HISTORY\nNational Day Calendar continues researching the origins of this hot beverage celebration. While we do\, we hope you’ll enjoy a mug with a friend or two. \nSource Link
URL:https://spanningtheneed.com/event/national-irish-coffee-day/
CATEGORIES:Food & Drink
ATTACH;FMTTYPE=image/jpeg:https://spanningtheneed.com/wp-content/uploads/2023/01/National-Irish-Coffee-Day-January-25.jpg-copy.jpg
ORGANIZER;CN="Spanning the Need":MAILTO:info@spanningtheneed.com
END:VEVENT
END:VCALENDAR