BEGIN:VCALENDAR
VERSION:2.0
PRODID:-//Spanning the Need: Good News, Inspiring, the Uninspired. - ECPv6.15.20//NONSGML v1.0//EN
CALSCALE:GREGORIAN
METHOD:PUBLISH
X-ORIGINAL-URL:https://spanningtheneed.com
X-WR-CALDESC:Events for Spanning the Need: Good News, Inspiring, the Uninspired.
REFRESH-INTERVAL;VALUE=DURATION:PT1H
X-Robots-Tag:noindex
X-PUBLISHED-TTL:PT1H
BEGIN:VTIMEZONE
TZID:America/New_York
BEGIN:DAYLIGHT
TZOFFSETFROM:-0500
TZOFFSETTO:-0400
TZNAME:EDT
DTSTART:20250309T070000
END:DAYLIGHT
BEGIN:STANDARD
TZOFFSETFROM:-0400
TZOFFSETTO:-0500
TZNAME:EST
DTSTART:20251102T060000
END:STANDARD
BEGIN:DAYLIGHT
TZOFFSETFROM:-0500
TZOFFSETTO:-0400
TZNAME:EDT
DTSTART:20260308T070000
END:DAYLIGHT
BEGIN:STANDARD
TZOFFSETFROM:-0400
TZOFFSETTO:-0500
TZNAME:EST
DTSTART:20261101T060000
END:STANDARD
BEGIN:DAYLIGHT
TZOFFSETFROM:-0500
TZOFFSETTO:-0400
TZNAME:EDT
DTSTART:20270314T070000
END:DAYLIGHT
BEGIN:STANDARD
TZOFFSETFROM:-0400
TZOFFSETTO:-0500
TZNAME:EST
DTSTART:20271107T060000
END:STANDARD
END:VTIMEZONE
BEGIN:VEVENT
DTSTART;VALUE=DATE:20260802
DTEND;VALUE=DATE:20260803
DTSTAMP:20260422T065945
CREATED:20220807T022056Z
LAST-MODIFIED:20220807T022530Z
UID:7792-1785628800-1785715199@spanningtheneed.com
SUMMARY:National Sister Day
DESCRIPTION:National Sisters Day on the first Sunday in August celebrates the unique bond between sisters. This particular set of siblings embrace moments that make them laugh and cringe. While they don’t always agree\, sisters have each other’s backs. \n#NationalSistersDay\nAll siblings have the odd argument here and there\, but deep down there’s little way around the natural connection between siblings. Even those who don’t have a natural sister sibling know the bonds of sisterhood. Those who forge a relationship with their spouse’s sisters understand. Also\, women who support each other through difficult times form a sisterhood. \nCelebrating National Sister Day on this Sunday \n \nA sister is like yourself in a different movie\,\na movie that stars you in a different life. ~ Deborah Tannen \nNo two sisters are alike. From love interests to cars\, sisters will disagree. And food\, cleaning\, and children require interventions. However\, we rely on each other while privately envying a sister’s style\, ability or grace. A sister understands when no one else does\, sometimes when even you don’t. So\, sister time provides vital healing. \nWhether your sisters harrassed you from day one or found you later in life\, this day brings you back together. Cherish the memories and make plans to create new ones. Reconnect or patch up any misunderstandings. Sisters are forever.
URL:https://spanningtheneed.com/event/national-sister-day/
CATEGORIES:Children,Community,Family-Friendly
ATTACH;FMTTYPE=image/jpeg:https://spanningtheneed.com/wp-content/uploads/2022/08/National-Sisters-Day-First-Sunday-in-August-980x490-1.jpg
END:VEVENT
END:VCALENDAR