BEGIN:VCALENDAR
VERSION:2.0
PRODID:-//Spanning the Need: Good News, Inspiring, the Uninspired. - ECPv6.15.20//NONSGML v1.0//EN
CALSCALE:GREGORIAN
METHOD:PUBLISH
X-WR-CALNAME:Spanning the Need: Good News, Inspiring, the Uninspired.
X-ORIGINAL-URL:https://spanningtheneed.com
X-WR-CALDESC:Events for Spanning the Need: Good News, Inspiring, the Uninspired.
REFRESH-INTERVAL;VALUE=DURATION:PT1H
X-Robots-Tag:noindex
X-PUBLISHED-TTL:PT1H
BEGIN:VTIMEZONE
TZID:America/New_York
BEGIN:DAYLIGHT
TZOFFSETFROM:-0500
TZOFFSETTO:-0400
TZNAME:EDT
DTSTART:20250309T070000
END:DAYLIGHT
BEGIN:STANDARD
TZOFFSETFROM:-0400
TZOFFSETTO:-0500
TZNAME:EST
DTSTART:20251102T060000
END:STANDARD
BEGIN:DAYLIGHT
TZOFFSETFROM:-0500
TZOFFSETTO:-0400
TZNAME:EDT
DTSTART:20260308T070000
END:DAYLIGHT
BEGIN:STANDARD
TZOFFSETFROM:-0400
TZOFFSETTO:-0500
TZNAME:EST
DTSTART:20261101T060000
END:STANDARD
BEGIN:DAYLIGHT
TZOFFSETFROM:-0500
TZOFFSETTO:-0400
TZNAME:EDT
DTSTART:20270314T070000
END:DAYLIGHT
BEGIN:STANDARD
TZOFFSETFROM:-0400
TZOFFSETTO:-0500
TZNAME:EST
DTSTART:20271107T060000
END:STANDARD
END:VTIMEZONE
BEGIN:VEVENT
DTSTART;VALUE=DATE:20260424
DTEND;VALUE=DATE:20260425
DTSTAMP:20260424T011617
CREATED:20230426T191157Z
LAST-MODIFIED:20230426T191157Z
UID:18263-1776988800-1777075199@spanningtheneed.com
SUMMARY:National Bucket List Day
DESCRIPTION:April 24 celebrates National Bucket List Day to remind us it’s never too late to set new goals\, go on a dream vacation\, and inspire people around you to enjoy life to the fullest. \n\n\n \n#NATIONALBUCKETLISTDAY\nBy definition\, a bucket list is a list of things a person would like to do\, but has never experienced before. Some people refer to them as milestones\, while other people refer to them as goals. Whatever you call them\, a bucket list is a list of things a person would like to accomplish before they die. \nWhat Is A Bucket List?\nA bucket list is the list you create to make the most out of life. It is a list of goals\, dreams\, and aspirations you would like to accomplish before you pass away. The basic meaning of a bucket list is to keep track of your goals by making yourself accountable to achieve all you want in life. The purpose of a bucket list is to encourage ourselves to accomplish goals within in a specific timeframe. \nOur time on earth is short. Very few of us pause to think about how we spend what time we have. Creating a bucket list can help you live your life to the fullest. It also gives you the opportunity to appreciate the life you have and reflect on the good things to come. \n\n\n \nBucket List Ideas\nA bucket list can be anything you want it to be. Your bucket list should reflect your interests. In fact\, we’re guessing there are no two lists alike. If you are a simple person\, create a bucket list that reflects the simple pleasures in life. If you gravitate towards extravagant things or love to travel\, your list will more than likely consist of ideas that require more of a financial investment. \nSimple Bucket List Ideas\n\nGraduating from high school or college.\nHaving children.\nBuying a home.\nBecoming a freelance photographer.\nParticipating in a painting club.\n\nExtravagant Bucket List Ideas\n\nGo on a cruise.\nVisit the Rainforest.\nVisit all the continents in the world.\nVisit historical landmarks across the country.\nRide a hot air balloon.\n\nTravel Bucket List\n\nTravel to Europe.\nSee the ancient Mayan ruins.\nVisit Egyptian tombs.\nTravel Route 66.\nVisit all the state parks in North America.\n\nFinding Gratitude\nLiving a life of gratitude is key to living a well-rounded life\, full of happiness and satisfaction. Gratitude allows you to find every day moments and turn them into long-term fulfillment. Completing items on your bucket list will help you realize the opportunity you have been given as you experience life-changing moments you thought might never happen. Enjoy the ride and show gratitude for the adventure you have in this life. \nENDLESS POSSIBILITIES\n\nBe brave and have some fun by learning to paint\, drive a race car\, skydive\, surf\, or jump off a cliff.\nSample local food and drink during your travels.\nCreate a bucket list with a friend that you both can enjoy.\nWatch the movie Bucket List\, staring Jack Nicholson and Morgan Freeman.\nPay it forward with a bucket list that allows you to donate time to an orphanage\, local soup kitchen\, or food pantry.\nShare your videos and photos on social media from your bucket list adventures using #NationalBucketListDay.\n\nSource Link
URL:https://spanningtheneed.com/event/national-bucket-list-day/
LOCATION:OH
CATEGORIES:Community
ATTACH;FMTTYPE=image/jpeg:https://spanningtheneed.com/wp-content/uploads/2023/04/NATIONAL-BUCKET-LIST-DAY-April-24.jpg-copy.jpg
ORGANIZER;CN="Spanning the Need":MAILTO:info@spanningtheneed.com
END:VEVENT
END:VCALENDAR